BEGIN:VCALENDAR
PRODID:-//IONAS//RIS//DE
VERSION:2.0
CALSCALE:GREGORIAN
BEGIN:VEVENT
DTSTAMP:20260423T090540Z
DTSTART:20210629T200500
DTEND:20210629T215000
SUMMARY:Ortsbeirat Dickershausen (2. Sitzung)
LOCATION:Feuerwehrhaus Dickershausen\, Besprechungsraum\, Danziger Straße
  30\, 34576 Homberg (Efze)
DESCRIPTION:Tagesordnungspunkte\n1. Begrüßung und Feststellung der Ordnun
 gsmäßigkeit der Einladung und der Beschlussfähigkeit\n2. Dorfverein\n3. 
 Grillhütte\n4. Bäumeschneiden\n5. Ehrengrab und Gehweg am Friedhof\n6. P
 rojekt Homberg-gestalten\n7. Verschiedenes
UID:0nR0VGxHr8WfEyMQ
END:VEVENT
END:VCALENDAR
