BEGIN:VCALENDAR
PRODID:-//IONAS//RIS//DE
VERSION:2.0
CALSCALE:GREGORIAN
BEGIN:VEVENT
DTSTAMP:20260425T181225Z
DTSTART:20220412T190000
DTEND:20220412T210000
SUMMARY:Ortsbeirat Allmuthshausen (10. Sitzung)
LOCATION:Dorfgemeinschaftshaus Allmuthshausen\, Besprechungsraum\, Fliede
 rweg 1 a\, 34576 Homberg (Efze)
DESCRIPTION:Tagesordnungspunkte\n1. Begrüßung und Feststellung der Ordnun
 gsmäßigkeit der Einladung und der Beschlussfähigkeit\n2. Aktueller Stand
  Backhaussanierung\n3. Verwendung der Sachausgaben\n4. Dorfverschönerung
 smaßnahmen\, Arbeitseinsätze\, Terminplanung\n5. Sommerspiele für Kinder
  und Jugendliche\n6. Planung Frühlingsfest mit Wanderung\n7. Mähplan 202
 2\n8. Verschiedenes
UID:3RE-2z8jWllfB0H7
END:VEVENT
END:VCALENDAR
