BEGIN:VCALENDAR
PRODID:-//IONAS//RIS//DE
VERSION:2.0
CALSCALE:GREGORIAN
BEGIN:VEVENT
DTSTAMP:20260425T182409Z
DTSTART:20220607T190000
DTEND:20220607T220000
SUMMARY:Ortsbeirat Allmuthshausen (11. Sitzung)
LOCATION:Dorfgemeinschaftshaus Allmuthshausen\, Besprechungsraum\, Fliede
 rweg 1 a\, 34576 Homberg (Efze)
DESCRIPTION:Tagesordnungspunkte\n1. Begrüßung und Feststellung der Ordnun
 gsmäßigkeit der Einladung und der Beschlussfähigkeit\n2. Backhaussanieru
 ng - Arbeitseinsatz\n3. Tempolimit Wanderweg\, Geschwindigkeitshinweista
 feln Grundstraße\, Tempo 30 Bushaltestelle\n4. Abschließende Betrachtung
  / Beurteilung Ortsdurchfahrt\n5. Bolzplatz und Umgebung\n6. Dorfplatzko
 nzert - Backhausfest - Kinderspielfest\n7. Verschiedenes
UID:Dt6rwpUimqMCE0Ty
END:VEVENT
END:VCALENDAR
