BEGIN:VCALENDAR
PRODID:-//IONAS//RIS//DE
VERSION:2.0
CALSCALE:GREGORIAN
BEGIN:VEVENT
DTSTAMP:20260425T181225Z
DTSTART:20251204T184500
DTEND:20251204T200000
SUMMARY:Ortsbeirat Allmuthshausen (20. Sitzung)
LOCATION:Stadthalle Homberg (Efze)\, Großer Saal\, Ziegenhainer Straße 19
  a\, 34576 Homberg (Efze)
DESCRIPTION:Tagesordnungspunkte\n1. Wahl eines Ortsvorstehers\n2. Wahl ei
 nes Stellvertretenden Ortsvorstehers\n3. Wahl eines Schriftführers\n4. B
 eratung der Haushaltssatzung und des Haushaltsplanes für das\nRechnungsj
 ahr 2026\n5. Verschiedenes
UID:EgfQmsYlKLb4BZTD
END:VEVENT
END:VCALENDAR
