BEGIN:VCALENDAR
PRODID:-//IONAS//RIS//DE
VERSION:2.0
CALSCALE:GREGORIAN
BEGIN:VEVENT
DTSTAMP:20260425T181414Z
DTSTART:20260420T190000
DTEND:20260420T192000
SUMMARY:Ortsbeirat Allmuthshausen (1. Sitzung)
LOCATION:Rathaus der Stadt Homberg (Efze)\, Sitzungsraum\, Rathausgasse 1
 \, 34576 Homberg (Efze)
DESCRIPTION:Tagesordnungspunkte\n1. Begrüßung und Feststellung der Ordnun
 gsmäßigkeit der Einladung und der Beschlussfähigkeit\n2. Wahl der Ortsvo
 rsteherin / des Ortsvorstehers\n3. Wahl der Stellvertretung der Ortsvors
 teherin / des Ortsvorstehers\n4. Wahl der Schriftführung\n5. ggf. Wahl e
 iner stellvertretenden Schriftführung\n6. Verschiedenes
UID:Es6wKWd7oAvnVNnt
END:VEVENT
END:VCALENDAR
