BEGIN:VCALENDAR
PRODID:-//IONAS//RIS//DE
VERSION:2.0
CALSCALE:GREGORIAN
BEGIN:VEVENT
DTSTAMP:20260425T180337Z
DTSTART:20210615T190000
DTEND:20210615T220000
SUMMARY:Ortsbeirat Allmuthshausen (3. Sitzung)
LOCATION:Dorfgemeinschaftshaus Allmuthshausen\, Besprechungsraum\, Fliede
 rweg 1 a\, 34576 Homberg (Efze)
DESCRIPTION:Tagesordnungspunkte\n1. Begrüßung und Feststellung der Ordnun
 gsmäßigkeit der Einladung und der Beschlussfähigkeit\n2. Ortsdurchfahrt 
 – Vorstellung der endgültigen Pläne\nGast: Herr Schmoll-Feller\, Unger-I
 ngenieure\n3. Verfügungsmittel und Sachausgaben\n4. Auswertung Dorfumfra
 ge und Aufstellen einer Prioritätenliste\n5. Planung von Arbeitseinsätze
 n zur Dorfverschönerung\n6. Feste in Allmuthshausen und Rückersfeld – Bi
 ldung von Festausschüssen\n7. Erstellung einer Internet-Homepage\n8. Ver
 schiedenes
UID:GF2ntQeYZJUEl7ig
END:VEVENT
END:VCALENDAR
