BEGIN:VCALENDAR
PRODID:-//IONAS//RIS//DE
VERSION:2.0
CALSCALE:GREGORIAN
BEGIN:VEVENT
DTSTAMP:20260425T181409Z
DTSTART:20210713T190000
DTEND:20210713T211500
SUMMARY:Ortsbeirat Allmuthshausen (4. Sitzung)
LOCATION:Dorfgemeinschaftshaus Allmuthshausen\, Besprechungsraum\, Fliede
 rweg 1 a\, 34576 Homberg (Efze)
DESCRIPTION:Tagesordnungspunkte\n1. Begrüßung und Feststellung der Ordnun
 gsmäßigkeit der Einladung und der Beschlussfähigkeit\n2. Dorfentwicklung
 sprogramm – Beteiligungsaktion Kinder und Jugendliche\n3. Arbeitseinsätz
 e zur Dorfverschönerung\n4. Plakatwand und Bekanntmachungskasten\n5. Beg
 rüßungsschilder an den Ortseingängen\n6. Erstellung einer Internet-Homep
 age\n7. Verschiedenes
UID:HVYovfLbgUi09ndu
END:VEVENT
END:VCALENDAR
