BEGIN:VCALENDAR
PRODID:-//IONAS//RIS//DE
VERSION:2.0
CALSCALE:GREGORIAN
BEGIN:VEVENT
DTSTAMP:20260425T182839Z
DTSTART:20220111T190000
DTEND:20220111T220000
SUMMARY:Ortsbeirat Allmuthshausen (8. Sitzung)
LOCATION:Dorfgemeinschaftshaus Allmuthshausen\, Besprechungsraum\, Fliede
 rweg 1 a\, 34576 Homberg (Efze)
DESCRIPTION:Tagesordnungspunkte\n1. Begrüßung und Feststellung der Ordnun
 gsmäßigkeit der Einladung und der Beschlussfähigkeit\n2. Hausverwaltung 
 DGH – Gast: Frau Schäfer\n3. IKEK – Aktueller Stand\n4. Verkauf einer st
 ädtischen Wegefläche\n5. Leerstandskataster\n6. Tempobeschränkungen\n7. 
 Plakatwand und Begrüßungsschilder\n8. Backhaussanierung\n9. Winterwander
 ung\n10. Verschiedenes
UID:MKYtUVoisj0TWq9Q
END:VEVENT
END:VCALENDAR
