BEGIN:VCALENDAR
PRODID:-//IONAS//RIS//DE
VERSION:2.0
CALSCALE:GREGORIAN
BEGIN:VEVENT
DTSTAMP:20260425T181445Z
DTSTART:20211109T190000
DTEND:20211109T213000
SUMMARY:Ortsbeirat Allmuthshausen (7. Sitzung)
LOCATION:Dorfgemeinschaftshaus Allmuthshausen\, Besprechungsraum\, Fliede
 rweg 1 a\, 34576 Homberg (Efze)
DESCRIPTION:Tagesordnungspunkte\n1. Begrüßung und Feststellung der Ordnun
 gsmäßigkeit der Einladung und der Beschlussfähigkeit\n2. Hausverwaltung 
 DGH – Gast: Frau Schäfer\n3. Backhaus\n4. Sachausgaben\n5. Plakatwand\n6
 . Begrüßungsschilder\n7. Kirmes 2023\n8. Verschiedenes
UID:NGP7J1WXbKg2HzzI
END:VEVENT
END:VCALENDAR
