BEGIN:VCALENDAR
PRODID:-//IONAS//RIS//DE
VERSION:2.0
CALSCALE:GREGORIAN
BEGIN:VEVENT
DTSTAMP:20260425T180331Z
DTSTART:20241009T190000
DTEND:20241009T204500
SUMMARY:Ortsbeirat Allmuthshausen (18. Sitzung)
LOCATION:Dorfgemeinschaftshaus Allmuthshausen\, Besprechungsraum\, Fliede
 rweg 1 a\, 34576 Homberg (Efze)
DESCRIPTION:Tagesordnungspunkte\n1. Gestaltung Spielplatz\n2. Behinderten
 gerechtes DGH\n3. 800 Jahrfeier in Allmuthshausen\n4. Ortseingangsschild
 er\n5. Update Friedhofshalle\n6. Planung der Festivitäten im Dorf\n7. Ar
 beitseinsätze im Ort\n8. Verschiedenes
UID:Oc9YElATFGgkfWPj
END:VEVENT
END:VCALENDAR
