BEGIN:VCALENDAR
PRODID:-//IONAS//RIS//DE
VERSION:2.0
CALSCALE:GREGORIAN
BEGIN:VEVENT
DTSTAMP:20260425T181938Z
DTSTART:20220720T190000
DTEND:20220720T213000
SUMMARY:Ortsbeirat Allmuthshausen (12. Sitzung)
LOCATION:Dorfgemeinschaftshaus Allmuthshausen\, Besprechungsraum\, Fliede
 rweg 1 a\, 34576 Homberg (Efze)
DESCRIPTION:Tagesordnungspunkte\n1. Begrüßung und Feststellung der Ordnun
 gsmäßigkeit der Einladung und der Beschlussfähigkeit\n2. Backhaussanieru
 ng - Arbeitseinsatz\n3. Planung Backhausfest mit Dorfplatzkonzert\n4. Fr
 iedhofshalle - Sanierungsbedarf\n5. Bolzplatz und Umgebung\n6. Verschied
 enes
UID:QkW-PpVj6AronQxK
END:VEVENT
END:VCALENDAR
