BEGIN:VCALENDAR
PRODID:-//IONAS//RIS//DE
VERSION:2.0
CALSCALE:GREGORIAN
BEGIN:VEVENT
DTSTAMP:20260421T081129Z
DTSTART:20251204T190000
DTEND:20251204T200000
SUMMARY:Ortsbeirat Caßdorf (10. Sitzung)
LOCATION:Stadthalle Homberg (Efze)\, Großer Saal\, Ziegenhainer Straße 19
  a\, 34576 Homberg (Efze)
DESCRIPTION:Tagesordnungspunkte\n1. Beratung der Haushaltssatzung und des
  Haushaltsplanes für das\nRechnungsjahr 2026\n2. Verschiedenes
UID:_z3S7izf6AQAkPvC
END:VEVENT
END:VCALENDAR
