BEGIN:VCALENDAR
PRODID:-//IONAS//RIS//DE
VERSION:2.0
CALSCALE:GREGORIAN
BEGIN:VEVENT
DTSTAMP:20260423T092807Z
DTSTART:20210419T193000
DTEND:20210419T203700
SUMMARY:Ortsbeirat Mühlhausen (1. Sitzung)
LOCATION:Dorfgemeinschaftshaus Mühlhausen\, Besprechungsraum\, Frielendor
 fer Straße\, 34576 Homberg (Efze)
DESCRIPTION:Tagesordnungspunkte\n1. Begrüßung und Feststellung der Ordnun
 gsmäßigkeit der Einladung und der Beschlussfähigkeit\n2. Feststellung de
 s an Jahren ältesten Mitgliedes des Ortsbeirates\n3. Wahl der Ortsvorste
 herin / des Ortsvorstehers\n4. Wahl der Stellvertreterin / des Stellvert
 reters der Ortsvorsteherin / des Ortsvorstehers\n5. Wahl einer Schriftfü
 hrerin / eines Schriftführers\n6. Verschiedenes
UID:aa1ipG-EQzhae6dC
END:VEVENT
END:VCALENDAR
