BEGIN:VCALENDAR
PRODID:-//IONAS//RIS//DE
VERSION:2.0
CALSCALE:GREGORIAN
BEGIN:VEVENT
DTSTAMP:20260425T181658Z
DTSTART:20210914T190000
DTEND:20210914T223000
SUMMARY:Ortsbeirat Allmuthshausen (5. Sitzung)
LOCATION:Dorfgemeinschaftshaus Allmuthshausen\, Besprechungsraum\, Fliede
 rweg 1 a\, 34576 Homberg (Efze)
DESCRIPTION:Tagesordnungspunkte\n1. Begrüßung und Feststellung der Ordnun
 gsmäßigkeit der Einladung und der Beschlussfähigkeit\n2. Sportplatz „Hep
 e-Stadion“\n3. Dorfentwicklungsprogramm – IKEK\n4. Investitionswünsche H
 aushaltsjahr 2022 sowie 2023-2025\n5. Verwendung der Sachausgaben 2021\n
 6. Herbstfest\n7. Seniorennachmittag\n8. Verschiedenes
UID:dug_CDC_SUPqmS8b
END:VEVENT
END:VCALENDAR
