BEGIN:VCALENDAR
PRODID:-//IONAS//RIS//DE
VERSION:2.0
CALSCALE:GREGORIAN
BEGIN:VEVENT
DTSTAMP:20260425T181526Z
DTSTART:20210518T190000
DTEND:20210518T203000
SUMMARY:Ortsbeirat Allmuthshausen (2. Sitzung)
LOCATION:Dorfgemeinschaftshaus Allmuthshausen\, Besprechungsraum\, Fliede
 rweg 1 a\, 34576 Homberg (Efze)
DESCRIPTION:Tagesordnungspunkte\n1. Begrüßung und Feststellung der Ordnun
 gsmäßigkeit der Einladung und der Beschlussfähigkeit\n2. Erstellung eine
 r Mängelliste und Antrag an die Stadt zu deren Beseitigung\n3. Tempo 30-
 Zone ab Wanderweg bis zum Friedhof\n4. Renovierung Backhaus\n5. Feste in
  Allmuthshausen und Rückersfeld\n6. Auswertung Dorfumfrage\n7. Verschied
 enes
UID:eJQDRLfhgAq4N95v
END:VEVENT
END:VCALENDAR
