BEGIN:VCALENDAR
PRODID:-//IONAS//RIS//DE
VERSION:2.0
CALSCALE:GREGORIAN
BEGIN:VEVENT
DTSTAMP:20260425T180952Z
DTSTART:20240909T190000
DTEND:20240909T205500
SUMMARY:Ortsbeirat Allmuthshausen (17. Sitzung)
LOCATION:Dorfgemeinschaftshaus Allmuthshausen\, Besprechungsraum\, Fliede
 rweg 1 a\, 34576 Homberg (Efze)
DESCRIPTION:Tagesordnungspunkte\n1. Spielplatz (Neugestaltung und Arbeits
 einsätze)\n2. Aktivierung Jugendclub\n3. Umgestaltung Friedhofshalle\n4.
  Update 800 Jahrfeier\n5. Erstellung Festkalender Allmuthshausen | Rücke
 rsfeld\n6. Verschiedenes
UID:frwFrGUKyEXvag7O
END:VEVENT
END:VCALENDAR
