BEGIN:VCALENDAR
PRODID:-//IONAS//RIS//DE
VERSION:2.0
CALSCALE:GREGORIAN
BEGIN:VEVENT
DTSTAMP:20260425T181526Z
DTSTART:20220301T190000
DTEND:20220301T210000
SUMMARY:Ortsbeirat Allmuthshausen (9. Sitzung)
LOCATION:Dorfgemeinschaftshaus Allmuthshausen\, Besprechungsraum\, Fliede
 rweg 1 a\, 34576 Homberg (Efze)
DESCRIPTION:Tagesordnungspunkte\n1. Begrüßung und Feststellung der Ordnun
 gsmäßigkeit der Einladung und der Beschlussfähigkeit\n2. IKEK – Aktuelle
 r Stand\n3. Umgestaltung DGH-Vorplatz\n4. Sommerspiele für Kinder und Ju
 gendliche\n5. Feste und Feiern in 2022\n6. Mähplan 2022\n7. Dorfverschön
 erungsmaßnahmen\, Arbeitseinsätze\n8. Verschiedenes
UID:kuxJdX-bSVLAjVS0
END:VEVENT
END:VCALENDAR
