BEGIN:VCALENDAR
PRODID:-//IONAS//RIS//DE
VERSION:2.0
CALSCALE:GREGORIAN
BEGIN:VEVENT
DTSTAMP:20260425T180504Z
DTSTART:20220914T190000
DTEND:20220914T204500
SUMMARY:Ortsbeirat Allmuthshausen (13. Sitzung)
LOCATION:Dorfgemeinschaftshaus Allmuthshausen\, Besprechungsraum\, Fliede
 rweg 1 a\, 34576 Homberg (Efze)
DESCRIPTION:Tagesordnungspunkte\n1. Begrüßung und Feststellung der Ordnun
 gsmäßigkeit der Einladung und der Beschlussfähigkeit\n2. Beschluss über 
 den Verkauf einer städtischen Fläche\n3. Rückblick Backhausfest\n4. Aust
 ausch über die Gestaltung der Betonwand an der Bushaltestelle\n5. Nikola
 usfest in Allmuthshausen\n6. Verfügungsmittel und Sachausgaben\n7. Versc
 hiedenes
UID:mziZ6rpXCeGvv48c
END:VEVENT
END:VCALENDAR
