BEGIN:VCALENDAR
PRODID:-//IONAS//RIS//DE
VERSION:2.0
CALSCALE:GREGORIAN
BEGIN:VEVENT
DTSTAMP:20260425T181415Z
DTSTART:20240805T190000
DTEND:20240805T203000
SUMMARY:Ortsbeirat Allmuthshausen (16. Sitzung)
LOCATION:Dorfgemeinschaftshaus Allmuthshausen\, Besprechungsraum\, Fliede
 rweg 1 a\, 34576 Homberg (Efze)
DESCRIPTION:Tagesordnungspunkte\n1. Wahl einer Ortsvorsteherin / eines Or
 tsvorstehers\n2. Wahl einer stellvertretenden Ortsvorsteherin / eines st
 ellvertretenden Ortsvorstehers\n3. 800-Jahr-Feier in 2024\n4. Aktivierun
 g des Jugendclubs\n5. Sachstand zum Glasfaserausbau / Internet Fa. Goete
 l\n6. Verschiedenes
UID:xgSfwN8SdXruTRHG
END:VEVENT
END:VCALENDAR
